BEGIN:VCALENDAR
VERSION:2.0
PRODID:-//ChamberMaster//Event Calendar 2.0//EN
METHOD:PUBLISH
X-PUBLISHED-TTL:P3D
REFRESH-INTERVAL:P3D
CALSCALE:GREGORIAN
BEGIN:VEVENT
DTSTART:20201105T190000Z
DTEND:20201105T200000Z
X-MICROSOFT-CDO-ALLDAYEVENT:FALSE
SUMMARY:CCEC Membership Happy Hour # 5
DESCRIPTION:The CCEC Membership Peer Network will be holding  "Membership Happy Hour" # 5 on Thursday\, November 5 at 2:00 p.m. ET -  an opportunity for all Chamber membership sales and management staff to gather and exchange information on membership experiences and best practices.\n\n \n\nWe'll be dealing with these sorts of questions and anything else that YOU would like to discuss . . .\n\n	How's things going with membership renewals?\n	And new members?\n	Sponsorship?\n	Biggest success over the last month?\n	Biggest challenge over the last month?\n	Any best practices that you can share?\n\nIt's always nice to have some volunteers to kick off discussion on these topics and anything else you want to cover. Please indicate when you register if you would be willing to share your experiences.
X-ALT-DESC;FMTTYPE=text/html:The CCEC Membership Peer Network will be holding&nbsp\; &quot\;Membership Happy Hour&quot\; # 5 on Thursday\, November 5 at 2:00 p.m. ET -&nbsp\; an opportunity for all Chamber membership sales and management staff to gather and exchange information on membership experiences and best practices.<br />\n&nbsp\;<br />\nWe&#39\;ll be dealing with these sorts of questions and anything else that YOU would like to discuss . . .\n<ul>\n	<li>How&#39\;s things going with membership renewals?</li>\n	<li>And new members?</li>\n	<li>Sponsorship?</li>\n	<li>Biggest success over the last month?</li>\n	<li>Biggest challenge over the last month?</li>\n	<li>Any best practices that you can share?</li>\n</ul>\nIt&#39\;s always nice to have some volunteers to kick off discussion on these topics and anything else you want to cover. Please indicate when you register if you would be willing to share your experiences.<br />\n<br />\n<br />\n&nbsp\;
LOCATION:On-line
UID:e.1961.95
SEQUENCE:3
DTSTAMP:20260420T225308Z
URL:https://members.ccec.biz/events/details/ccec-membership-happy-hour-5-95
END:VEVENT

END:VCALENDAR
