BEGIN:VCALENDAR
VERSION:2.0
PRODID:-//ChamberMaster//Event Calendar 2.0//EN
METHOD:PUBLISH
X-PUBLISHED-TTL:P3D
REFRESH-INTERVAL:P3D
CALSCALE:GREGORIAN
BEGIN:VEVENT
DTSTART:20200910T160000Z
DTEND:20200910T170000Z
X-MICROSOFT-CDO-ALLDAYEVENT:FALSE
SUMMARY:CCEC Membership Happy Hour # 4
DESCRIPTION:The CCEC Membership Peer Network will be holding  "Membership Happy Hour" # 4 on Thursday\, September 10 at 12:00 p.m. EDT.\n\nThe purpose is to provide an opportunity for all Chamber membership sales and management staff to gather and exchange information on membership challenges your Chamber is facing and plans for recovery.\n\n \n\nWe'll be dealing with these sorts of questions and anything else that YOU would like to discuss . . .\n\n	How's things going with membership renewals?\n	And new members?\n	Sponsorship?\n	Biggest success over the last month?\n	Biggest challenge over the last month?\n	Any best practices that you can share?\n\nLooking for volunteers to be part of our panel to kick off discussion on these questions and anything else you want to cover. Please indicate when you register if you would be willing to share your experiences.
X-ALT-DESC;FMTTYPE=text/html:The CCEC Membership Peer Network will be holding&nbsp\; &quot\;Membership Happy Hour&quot\; # 4 on Thursday\, September 10 at 12:00 p.m. EDT.<br />\nThe purpose is to provide an opportunity for all Chamber membership sales and management staff to gather and exchange information on membership challenges your Chamber is facing and plans for recovery.<br />\n&nbsp\;<br />\nWe&#39\;ll be dealing with these sorts of questions and anything else that YOU would like to discuss . . .\n<ul>\n	<li>How&#39\;s things going with membership renewals?</li>\n	<li>And new members?</li>\n	<li>Sponsorship?</li>\n	<li>Biggest success over the last month?</li>\n	<li>Biggest challenge over the last month?</li>\n	<li>Any best practices that you can share?</li>\n</ul>\nLooking for volunteers to be part of our panel to kick off discussion on these questions and anything else you want to cover. Please indicate when you register if you would be willing to share your experiences.<br />\n<br />\n<br />\n&nbsp\;
LOCATION:On-line
UID:e.1961.94
SEQUENCE:3
DTSTAMP:20260421T020723Z
URL:https://members.ccec.biz/events/details/ccec-membership-happy-hour-4-94
END:VEVENT

END:VCALENDAR
