BEGIN:VCALENDAR
VERSION:2.0
PRODID:-//ChamberMaster//Event Calendar 2.0//EN
METHOD:PUBLISH
X-PUBLISHED-TTL:P3D
REFRESH-INTERVAL:P3D
CALSCALE:GREGORIAN
BEGIN:VEVENT
DTSTART:20200710T180000Z
DTEND:20200710T190000Z
X-MICROSOFT-CDO-ALLDAYEVENT:FALSE
SUMMARY:CCEC Membership Happy Hour # 3
DESCRIPTION:The CCEC Membership Peer Network will be holding  "Membership Happy Hour" # 3 on Friday\, July 10 at 2:00 EDT.\n\nThe purpose is to provide an opportunity for all Chamber membership sales and management staff to gather and exchange information on membership challenges your Chamber is facing and plans for recovery.\n\n \n\nWe'll be dealing with these sorts of questions and anything else that YOU would like to discuss . . .\n\n	How's things going with membership renewals?\n	And what about new members?\n	Sponsorship?\n	Biggest success over the last month?\n	Biggest challenge over the last month?\n	Any best practices that you can share?\n\nLooking for volunteers to be part of our panel to kick off discussion on these questions and anything else you want to cover. Please indicate when you register if you would be willing to share your experiences.\n\n\n\nThere is no fee to participate but please register in order to receive connection information.
X-ALT-DESC;FMTTYPE=text/html:The CCEC Membership Peer Network will be holding&nbsp\; "Membership Happy Hour" # 3 on Friday\, July 10 at 2:00 EDT.<br>\nThe purpose is to provide an opportunity for all Chamber membership sales and management staff to gather and exchange information on membership challenges your Chamber is facing and plans for recovery.<br>\n&nbsp\;<br>\nWe'll be dealing with these sorts of questions and anything else that YOU would like to discuss . . .\n<ul>\n	<li>How's things going with membership renewals?</li>\n	<li>And what about new members?</li>\n	<li>Sponsorship?</li>\n	<li>Biggest success over the last month?</li>\n	<li>Biggest challenge over the last month?</li>\n	<li>Any best practices that you can share?</li>\n</ul>\nLooking for volunteers to be part of our panel to kick off discussion on these questions and anything else you want to cover. Please indicate when you register if you would be willing to share your experiences.<br>\n<br>\nThere is no fee to participate but please register in order to receive connection information.<br>\n&nbsp\;
LOCATION:On-line
UID:e.1961.87
SEQUENCE:3
DTSTAMP:20260421T052005Z
URL:https://members.ccec.biz/events/details/ccec-membership-happy-hour-3-87
END:VEVENT

END:VCALENDAR
