BEGIN:VCALENDAR
VERSION:2.0
PRODID:-//ChamberMaster//Event Calendar 2.0//EN
METHOD:PUBLISH
X-PUBLISHED-TTL:P3D
REFRESH-INTERVAL:P3D
CALSCALE:GREGORIAN
BEGIN:VEVENT
DTSTART:20220517T170000Z
DTEND:20220517T180000Z
X-MICROSOFT-CDO-ALLDAYEVENT:FALSE
SUMMARY:CCEC Membership Happy Hour
DESCRIPTION:It's our  Membership Happy Hour  - on Tuesday\, May 17 2022 at 1:00 p.m. ET -  an opportunity for all Chamber membership sales and management staff to gather and exchange information on membership experiences and best practices.\n\nThis month\, we'll be talking about . . .\n\n\n	Biggest obstacles getting back to selling after COVID?\n	 How are you handling those that left or you froze?\n	 Do you ever contra memberships?\n	And your burning issues -  please indicate when you register if there are topics you'd like to discuss or questions you'd like to ask and we'll do our best to get those covered.
X-ALT-DESC;FMTTYPE=text/html:<p>It&#39\;s our&nbsp\; Membership Happy Hour&nbsp\; - on Tuesday\, May 17 2022 at 1:00 p.m. ET -&nbsp\; an opportunity for all Chamber membership sales and management staff to gather and exchange information on membership experiences and best practices.<br />\nThis month\, we&#39\;ll be talking about . . .</p>\n\n<ul>\n	<li>Biggest obstacles getting back to selling after COVID?</li>\n	<li>&nbsp\;How are you handling those that left or you froze?</li>\n	<li>&nbsp\;Do you ever contra memberships?</li>\n	<li>And your burning issues -&nbsp\; please indicate when you register if there are topics you&#39\;d like to discuss or questions you&#39\;d like to ask and we&#39\;ll do our best to get those covered.</li>\n</ul>\n\n<p>&nbsp\;<br />\n&nbsp\;</p>\n<br />\n<br />\n&nbsp\;
LOCATION:On-line
UID:e.1961.145
SEQUENCE:3
DTSTAMP:20260419T194528Z
URL:https://members.ccec.biz/events/details/ccec-membership-happy-hour-145
END:VEVENT

END:VCALENDAR
