BEGIN:VCALENDAR
VERSION:2.0
PRODID:-//ChamberMaster//Event Calendar 2.0//EN
METHOD:PUBLISH
X-PUBLISHED-TTL:P3D
REFRESH-INTERVAL:P3D
CALSCALE:GREGORIAN
BEGIN:VEVENT
DTSTART:20220119T190000Z
DTEND:20220119T200000Z
X-MICROSOFT-CDO-ALLDAYEVENT:FALSE
SUMMARY:CCEC Membership Happy Hour # 11
DESCRIPTION:It's our  Membership Happy Hour # 11 - on Wednesday\, January 19\, 2022 at 2:00 p.m. ET -  an opportunity for all Chamber membership sales and management staff to gather and exchange information on membership experiences and best practices.\n\n\n\nIf you haven't attended before\, make it your new year's resolution to join us and meet your peers across the country doing the same job as you. It's a great way to pick up tips\, share successes and challenges.\n\n\n\nPlease indicate when you register if there are topics you'd like to discuss or questions you'd like to ask and we'll do our best to get those covered. Also\, if you have a success story or best practice you'd like to share and wish to do a 5 minute presentation\, we'd love to hear from you.
X-ALT-DESC;FMTTYPE=text/html:<p>It&#39\;s our&nbsp\; Membership Happy Hour # 11 - on Wednesday\, January 19\, 2022 at 2:00 p.m. ET -&nbsp\; an opportunity for all Chamber membership sales and management staff to gather and exchange information on membership experiences and best practices.<br />\n<br />\nIf you haven&#39\;t attended before\, make it your new year&#39\;s resolution to join us and meet your peers across the country doing the same job as you. It&#39\;s a great way to pick up tips\, share successes and challenges.<br />\n<br />\nPlease indicate when you register if there are topics you&#39\;d like to discuss or questions you&#39\;d like to ask and we&#39\;ll do our best to get those covered. Also\, if you have a success story or best practice you&#39\;d like to share and wish to do a 5 minute presentation\, we&#39\;d love to hear from you.<br />\n&nbsp\;<br />\n&nbsp\;</p>\n<br />\n<br />\n&nbsp\;
LOCATION:On-line
UID:e.1961.144
SEQUENCE:3
DTSTAMP:20260420T015718Z
URL:https://members.ccec.biz/events/details/ccec-membership-happy-hour-11-144
END:VEVENT

END:VCALENDAR
