BEGIN:VCALENDAR
VERSION:2.0
PRODID:-//ChamberMaster//Event Calendar 2.0//EN
METHOD:PUBLISH
X-PUBLISHED-TTL:P3D
REFRESH-INTERVAL:P3D
CALSCALE:GREGORIAN
BEGIN:VEVENT
DTSTART:20211117T180000Z
DTEND:20211117T190000Z
X-MICROSOFT-CDO-ALLDAYEVENT:FALSE
SUMMARY:CCEC Membership Happy Hour # 10
DESCRIPTION:It's our  Membership Happy Hour # 10 - on Wednesday\, November 17 at 1:00 p.m. ET -  an opportunity for all Chamber membership sales and management staff to gather and exchange information on membership experiences and best practices.\n\nPlease indicate when you register if there are topics you'd like to discuss or questions you'd like to ask and we'll do our best to get those covered.
X-ALT-DESC;FMTTYPE=text/html:<p>It&#39\;s our&nbsp\; Membership Happy Hour # 10 - on Wednesday\, November 17 at 1:00 p.m. ET -&nbsp\; an opportunity for all Chamber membership sales and management staff to gather and exchange information on membership experiences and best practices.<br />\nPlease indicate when you register if there are topics you&#39\;d like to discuss or questions you&#39\;d like to ask and we&#39\;ll do our best to get those covered.<br />\n&nbsp\;<br />\n&nbsp\;</p>\n<br />\n<br />\n&nbsp\;
LOCATION:On-line
UID:e.1961.142
SEQUENCE:3
DTSTAMP:20260420T034055Z
URL:https://members.ccec.biz/events/details/ccec-membership-happy-hour-10-142
END:VEVENT

END:VCALENDAR
