BEGIN:VCALENDAR
VERSION:2.0
PRODID:-//ChamberMaster//Event Calendar 2.0//EN
METHOD:PUBLISH
X-PUBLISHED-TTL:P3D
REFRESH-INTERVAL:P3D
CALSCALE:GREGORIAN
BEGIN:VEVENT
DTSTART:20200723T160000Z
DTEND:20200723T170000Z
X-MICROSOFT-CDO-ALLDAYEVENT:FALSE
SUMMARY:CCEC Large Chamber Peer Network - Show me the Money
DESCRIPTION:This is an opportunity for the CEOs leading Chambers with 1000+ members to share experiences/information/best ideas on revenue challenges in the midst of covid-19\n\n\n\nAt our last meeting\, there were requests to discuss\n\n\n\n- revenue replacement\n\n- membership retention\n\n- chamber consolidation/cooperation\n\n\n\nLooking for volunteers to be part of our panel to kick off discussion on these topics and anything else you want to cover. Please indicate when you register what questions you'd most like to deal with and if you would be willing to share your experiences.\n\n\n\nYour opportunity to discuss what's happening in large chamber communities across the country! Please join the discussion on July 23.\n\n\n\nParticipation in this event is included in your CCEC membership\, but please register in order to receive connection information.
X-ALT-DESC;FMTTYPE=text/html:This is an opportunity for the CEOs leading Chambers with 1000+ members to share experiences/information/best ideas on revenue challenges in the midst of covid-19<br />\n<br />\nAt our last meeting\, there were requests to discuss<br />\n<br />\n- revenue replacement<br />\n- membership retention<br />\n- chamber consolidation/cooperation<br />\n<br />\nLooking for volunteers to be part of our panel to kick off discussion on these topics and anything else you want to cover. Please indicate when you register what questions you&#39\;d most like to deal with and if you would be willing to share your experiences.<br />\n<br />\nYour opportunity to discuss what&#39\;s happening in large chamber communities across the country!<strong> </strong>Please join the discussion on July 23.<br />\n<br />\nParticipation in this event is included in your CCEC membership\, but please register in order to receive connection information.<br />\n&nbsp\;
LOCATION:On-line
UID:e.1961.90
SEQUENCE:3
DTSTAMP:20260421T052158Z
URL:https://members.ccec.biz/events/details/ccec-large-chamber-peer-network-show-me-the-money-90
END:VEVENT

END:VCALENDAR
