BEGIN:VCALENDAR
VERSION:2.0
PRODID:-//ChamberMaster//Event Calendar 2.0//EN
METHOD:PUBLISH
X-PUBLISHED-TTL:P3D
REFRESH-INTERVAL:P3D
CALSCALE:GREGORIAN
BEGIN:VEVENT
DTSTART:20211123T180000Z
DTEND:20211123T190000Z
X-MICROSOFT-CDO-ALLDAYEVENT:FALSE
SUMMARY:CCEC Large Chamber Peer Network
DESCRIPTION:The CCEC Large Chamber Peer Network is a forum for the CEOs of chambers with 1000+ members to connect. Peer Networks provide an opportunity for chambers of like size to share information\, discuss challenges and opportunities\, and consider potential options for collaboration.\n\n \n\nIf you have a specific topic that you would like to speak to or questions you would like addressed\, please indicate  when you register.\n\n\n\nYour opportunity to share what's happening in large chamber communities across the country!
X-ALT-DESC;FMTTYPE=text/html:The CCEC Large Chamber Peer Network is a forum for the CEOs of chambers with 1000+ members to connect. Peer Networks provide an opportunity for chambers of like size to share information\, discuss challenges and opportunities\, and consider potential options for collaboration.<br />\n&nbsp\;<br />\nIf you have a specific topic that you would like to speak to or questions you would like addressed\, please indicate&nbsp\; when you register.<br />\n<br />\nYour opportunity to share what&#39\;s happening in large chamber communities across the country!<br />\n<br />\n&nbsp\;
LOCATION:On-line
UID:e.1961.147
SEQUENCE:3
DTSTAMP:20260420T033304Z
URL:https://members.ccec.biz/events/details/ccec-large-chamber-peer-network-147
END:VEVENT

END:VCALENDAR
