BEGIN:VCALENDAR
VERSION:2.0
PRODID:-//ChamberMaster//Event Calendar 2.0//EN
METHOD:PUBLISH
X-PUBLISHED-TTL:P3D
REFRESH-INTERVAL:P3D
CALSCALE:GREGORIAN
BEGIN:VEVENT
DTSTART:20210407T170000Z
DTEND:20210407T180000Z
X-MICROSOFT-CDO-ALLDAYEVENT:FALSE
SUMMARY:CCEC Events Peer Network - what's the plan for the summer?
DESCRIPTION:The CCEC Events Peer Network will be meeting on Wednesday\, April 7 at 1:00 p.m. ET -  an opportunity for all Chamber events staff to gather and exchange information on event experiences and best practices. The focus for April 7th will be:\n\n	Networking events (what is your chamber doing to bring value to your members?) \n	Preparation for the summer (what events do you plan to execute during the summer?)\n	Best ideas for outdoor events\n\nWe'd like to ensure we cover the bases you're interested in\, so when you register\, please indicate any topics you can speak on and questions you'd like addressed.
X-ALT-DESC;FMTTYPE=text/html:The CCEC Events Peer Network will be meeting on Wednesday\, April 7 at 1:00 p.m. ET -&nbsp\; an opportunity for all Chamber events staff to gather and exchange information on event experiences and best practices. The focus for April 7th will be:\n<ul>\n	<li><span style="font-family:calibri\,sans-serif\;"><span style="font-size:11.0pt\;">Networking events (what is your chamber doing to bring value to your members?) </span></span></li>\n	<li><span style="font-family:calibri\,sans-serif\;"><span style="font-size:11.0pt\;">Preparation for the summer (what events do you plan to execute during the summer?)</span></span></li>\n	<li><span style="font-family:calibri\,sans-serif\;"><span style="font-size:11.0pt\;">Best ideas for outdoor events</span></span></li>\n</ul>\n<span style="font-family:calibri\,sans-serif\;"><span style="font-size:11.0pt\;">We&#39\;d like to ensure we cover the bases you&#39\;re interested in\, so when you register\, please indicate any topics you can speak on and questions you&#39\;d like addressed.</span></span><br />\n<br />\n<br />\n<br />\n<br />\n&nbsp\;
LOCATION:On-line
UID:e.1961.115
SEQUENCE:3
DTSTAMP:20260420T150017Z
URL:https://members.ccec.biz/events/details/ccec-events-peer-network-what-s-the-plan-for-the-summer-115
END:VEVENT

END:VCALENDAR
