BEGIN:VCALENDAR
VERSION:2.0
PRODID:-//ChamberMaster//Event Calendar 2.0//EN
METHOD:PUBLISH
X-PUBLISHED-TTL:P3D
REFRESH-INTERVAL:P3D
CALSCALE:GREGORIAN
BEGIN:VEVENT
DTSTART:20210602T170000Z
DTEND:20210602T180000Z
X-MICROSOFT-CDO-ALLDAYEVENT:FALSE
SUMMARY:CCEC Events Peer Network talks "Galas"
DESCRIPTION:The CCEC Events Peer Network will be meeting on Wednesday\, June 2 at 1:00 p.m. ET -  an opportunity for all Chamber events staff to gather and exchange information on event experiences and best practices.\n\n\n\nOur plan is to talk "Chamber Galas" - nominations process\, sponsorship and execution - perhaps in Zoom rooms to facilitate small group discussion.\n\nAnd we'll also touch base on any follow up re: golf tournaments from our last meeting.\n\n\n\nWe'd like to ensure we cover the bases you're interested in\, so when you register\, please indicate any other topics you can speak on and questions you'd like addressed.
X-ALT-DESC;FMTTYPE=text/html:The CCEC Events Peer Network will be meeting on Wednesday\, June 2 at 1:00 p.m. ET -&nbsp\; an opportunity for all Chamber events staff to gather and exchange information on event experiences and best practices.<br />\n<br />\nOur plan is to talk &quot\;Chamber Galas&quot\; - nominations process\, sponsorship and execution - perhaps in Zoom rooms to facilitate small group discussion.<br />\nAnd we&#39\;ll also touch base on any follow up re: golf tournaments from our last meeting.<br />\n<br />\n<span style="font-family:calibri\,sans-serif\;"><span style="font-size:11.0pt\;">We&#39\;d like to ensure we cover the bases you&#39\;re interested in\, so when you register\, please indicate any other topics you can speak on and questions you&#39\;d like addressed.</span></span><br />\n<br />\n<br />\n<br />\n<br />\n&nbsp\;
LOCATION:On-line
UID:e.1961.121
SEQUENCE:3
DTSTAMP:20260420T115846Z
URL:https://members.ccec.biz/events/details/ccec-events-peer-network-talks-galas-121
END:VEVENT

END:VCALENDAR
