BEGIN:VCALENDAR
VERSION:2.0
PRODID:-//ChamberMaster//Event Calendar 2.0//EN
METHOD:PUBLISH
X-PUBLISHED-TTL:P3D
REFRESH-INTERVAL:P3D
CALSCALE:GREGORIAN
BEGIN:VEVENT
DTSTART:20210811T170000Z
DTEND:20210811T180000Z
X-MICROSOFT-CDO-ALLDAYEVENT:FALSE
SUMMARY:CCEC Events Peer Network - as you re-open . . .
DESCRIPTION:The CCEC Events Peer Network is your opportunity to connect with peers working in the area of event management to gather and exchange information on Chamber event experiences and best practices.\n\n\n\nAt our upcoming session\, our focus will be plans for re-opening.\n\n - What is your chamber doing to prepare?\n\n - What are your plans for in-person events?\n\n - What changes are you making  to address risk management issues?\n\n - Are you done with virtual events - or will they continue as one of your offerings depending on event objectives?\n\n\n\nAs always\, our aim is to ensure we cover the bases you're interested in\, so when you register\, please indicate any other topics you'd like to speak on and questions you'd like addressed.
X-ALT-DESC;FMTTYPE=text/html:The CCEC Events Peer Network is your opportunity to connect with peers working in the area of event management to gather and exchange information on Chamber event experiences and best practices.<br />\n<br />\nAt our upcoming session\, our focus will be plans for re-opening.<br />\n&nbsp\;- What is your chamber doing to prepare?<br />\n&nbsp\;- What are your plans for in-person events?<br />\n&nbsp\;- What changes are you making&nbsp\; to address risk management issues?<br />\n&nbsp\;- Are you done with virtual events - or will they continue as one of your offerings depending on event objectives?<br />\n<br />\n<span style="font-family:calibri\,sans-serif\;"><span style="font-size:11.0pt\;">As always\, our aim is to ensure we cover the bases you&#39\;re interested in\, so when you register\, please indicate any other topics you&#39\;d like to speak on and questions you&#39\;d like addressed.</span></span><br />\n<br />\n<br />\n<br />\n<br />\n&nbsp\;
LOCATION:On-line
UID:e.1961.125
SEQUENCE:3
DTSTAMP:20260420T082830Z
URL:https://members.ccec.biz/events/details/ccec-events-peer-network-as-you-re-open-125
END:VEVENT

END:VCALENDAR
