BEGIN:VCALENDAR
VERSION:2.0
PRODID:-//ChamberMaster//Event Calendar 2.0//EN
METHOD:PUBLISH
X-PUBLISHED-TTL:P3D
REFRESH-INTERVAL:P3D
CALSCALE:GREGORIAN
BEGIN:VEVENT
DTSTART:20211116T180000Z
DTEND:20211116T190000Z
X-MICROSOFT-CDO-ALLDAYEVENT:FALSE
SUMMARY:CCEC Events Peer Network
DESCRIPTION:The CCEC Events Peer Network will be meeting on Tuesday\, November 16 at 1:00 p.m. ET -  an opportunity for all Chamber events staff to gather and exchange information on event experiences and best practices.\n\nWe'd like to ensure we cover the bases you're interested in\, so when you register\, please indicate any other topics you can speak on and questions you'd like addressed.
X-ALT-DESC;FMTTYPE=text/html:The CCEC Events Peer Network will be meeting on Tuesday\, November 16 at 1:00 p.m. ET -&nbsp\; an opportunity for all Chamber events staff to gather and exchange information on event experiences and best practices.<br />\n<span style="font-family:calibri\,sans-serif\;"><span style="font-size:11.0pt\;">We&#39\;d like to ensure we cover the bases you&#39\;re interested in\, so when you register\, please indicate any other topics you can speak on and questions you&#39\;d like addressed.</span></span><br />\n<br />\n<br />\n<br />\n<br />\n&nbsp\;
LOCATION:On-line
UID:e.1961.139
SEQUENCE:3
DTSTAMP:20260420T033340Z
URL:https://members.ccec.biz/events/details/ccec-events-peer-network-139
END:VEVENT

END:VCALENDAR
