BEGIN:VCALENDAR
VERSION:2.0
PRODID:-//ChamberMaster//Event Calendar 2.0//EN
METHOD:PUBLISH
X-PUBLISHED-TTL:P3D
REFRESH-INTERVAL:P3D
CALSCALE:GREGORIAN
BEGIN:VEVENT
DTSTART:20210916T180000Z
DTEND:20210916T191500Z
X-MICROSOFT-CDO-ALLDAYEVENT:FALSE
SUMMARY:CCEC Event: Revitalize Your Work and Life
DESCRIPTION:Revitalize Your Work & Life \n\n	Are you trying to be all things to all people? \n	Are you who you want to be during this unprecedented time? \n	Are competing priorities\, uncertainty\, lack of time\, energy and motivation stopping you from being the best version of yourself? \n\n\nWell\, if overwhelm is creeping in\, congratulations\, you are human. \n\nBreathe.  We got you. Now is the time to top up your psychosocial wellness tool kit as you connect with your colleagues in this collaborative session.\n\n \n\nLearn simple\, purposeful\, deliberate actions you can easily implement to help you revitalize yourself so that you can bring your best both personally and professionally. Get ready to see how the Kaizen principle can help you improve your quality of life - even in tough times as we learn\, share and grow together\, and...we may even have a bit of fun!\n\n\n\nSpeaker: Stephanie Staples\n\nPre-COVID this reWired nurse traveled from the Mayo Clinic to the Middle East as a keynote speaker delivering idea-packed programs proven to increase feelings of hope\, happiness\, empowerment and ability to apply actionable positive change for busy professionals who are 'nice for a living'. These days this prairie girl is helping from home and really enjoying the 'enhance my features' capability on Zoom!\n\n \n\nAs a multi-titled author with eclectic qualifications that combine learnings from her background in healthcare\, journalism\, fitness and communications - Steph is a proud Chamber member and has some unique insights and tools to share that will positively\, positively impact your work and home life.
X-ALT-DESC;FMTTYPE=text/html:<span style="font-size:14px\;"><span style="font-family:arial\;"><strong><span style="font-size:18px\;"><span style="color:#800000\;">Revitalize Your Work &amp\; Life</span></span>&nbsp\;</strong></span></span>\n<ul>\n	<li><span style="font-size:14px\;"><span style="font-family:arial\;">Are you trying to be all things to all people? </span></span></li>\n	<li><span style="font-size:14px\;"><span style="font-family:arial\;">Are you who you want to be during this unprecedented time? </span></span></li>\n	<li><span style="font-size:14px\;"><span style="font-family:arial\;">Are competing priorities\, uncertainty\, lack of time\, energy and motivation stopping you from being the best version of yourself? </span></span></li>\n</ul>\n\n<p><span style="font-size:14px\;"><span style="font-family:arial\;">Well\, if overwhelm is creeping in\, congratulations\, you are human.&nbsp\;<br />\nBreathe.&nbsp\; We got you. Now is the time to top up your psychosocial wellness tool kit as you connect&nbsp\;with&nbsp\;your&nbsp\;colleagues in this&nbsp\;collaborative&nbsp\;session.</span></span><br />\n&nbsp\;</p>\n\n<p><span style="font-size:14px\;"><span style="font-family:arial\;">Learn simple\, purposeful\, deliberate actions you can easily implement to help you revitalize yourself so that you can bring your best both personally and professionally. Get ready to see how the Kaizen principle can help you improve your quality of life - even in tough times as we learn\, share and grow together\, and...we may even have a bit of fun!<br />\n<br />\n<strong>Speaker: Stephanie Staples</strong><br />\nPre-COVID this reWired nurse traveled from the Mayo Clinic to the Middle East as a keynote speaker delivering idea-packed programs&nbsp\;<em>proven&nbsp\;</em>to increase feelings of hope\, happiness\, empowerment and ability to apply actionable positive change for busy professionals who are &rsquo\;nice for a living&#39\;. These days this prairie girl is helping from home and really enjoying the &lsquo\;enhance my features&rsquo\; capability on Zoom!<br />\n&nbsp\;<br />\nAs a multi-titled author with eclectic qualifications that combine learnings from her background in healthcare\, journalism\, fitness and communications - Steph is a proud Chamber member and has some unique insights and tools to share that will positively\,&nbsp\;<em>positively</em>&nbsp\;impact your work and home life.&nbsp\; </span></span></p>\n
LOCATION:
UID:e.1961.133
SEQUENCE:3
DTSTAMP:20260420T064403Z
URL:https://members.ccec.biz/events/details/ccec-event-revitalize-your-work-and-life-133
END:VEVENT

END:VCALENDAR
