BEGIN:VCALENDAR
VERSION:2.0
PRODID:-//ChamberMaster//Event Calendar 2.0//EN
METHOD:PUBLISH
X-PUBLISHED-TTL:P3D
REFRESH-INTERVAL:P3D
CALSCALE:GREGORIAN
BEGIN:VEVENT
DTSTART:20210924T180000Z
DTEND:20210924T190000Z
X-MICROSOFT-CDO-ALLDAYEVENT:FALSE
SUMMARY:CCEC 2021 AGM
DESCRIPTION:Please join us to receive an update on CCEC activities in 2020-21\, elect the 2021-22 Board and celebrate our members' success as we recognize this year's Accredited Chamber Executive recipients and Milestone Service recipients.\n\nAgenda\n\n1.    Call to Order\n\n2.    Approval of Minutes\, September 25\, 2020\n\n3.    Business Arising from Minutes\n\n4.    President's Report/Year in Review   Stuart Harrison\n\n5.    Financial Report   Shelley Morris\n\n6.    Nominating Report   Deneen Everett\n\n7.    2021-22 President's Remarks - Loren Remillard\n\n8.    New Business\n\n9.    Date of Next Meeting: TBA\n\n10.  Adjourn\n\n\n\nRecognition of Accredited Chamber Executives\n\nRecognition of Milestone Service Recipients
X-ALT-DESC;FMTTYPE=text/html:Please join us to receive an update on CCEC activities in 2020-21\, elect the 2021-22 Board and celebrate our members&#39\; success as we recognize this year&#39\;s Accredited Chamber Executive recipients and Milestone Service recipients.<br />\n<span style="text-transform:uppercase\;language:en-US\;"><span style="color:#C00000\;"><span style="font-family:franklin gothic demi cond\;"><span style="font-size:17.0pt\;">Agenda</span></span></span></span><br />\n<span style="font-size:12px\;"><span style="font-family:arial\;"><span style="color:black\;">1.&nbsp\;&nbsp\;&nbsp\; Call to Order</span><br />\n<span style="color:black\;">2.&nbsp\;&nbsp\;&nbsp\; Approval of </span>Minutes\, September 25\, 2020<br />\n3.&nbsp\;&nbsp\;&nbsp\; Business Arising from Minutes<br />\n4.&nbsp\;&nbsp\;&nbsp\; President&rsquo\;s Report/Year in Review &ndash\; Stuart Harrison<br />\n5.&nbsp\;&nbsp\;&nbsp\; Financial Report &ndash\; Shelley Morris<br />\n6. &nbsp\;&nbsp\; Nominating Report &ndash\; Deneen Everett<br />\n7.&nbsp\;&nbsp\;&nbsp\; 2021-22 President&#39\;s Remarks - Loren Remillard<br />\n8. &nbsp\;&nbsp\; New Business<br />\n9. &nbsp\;&nbsp\; Date of Next Meeting: TBA<br />\n<span style="color:black\;">10.&nbsp\; </span></span></span><span style="language:en-CA\;"><span style="color:black\;"><span style="font-family:&amp\;"><span style="font-size:9.9974pt\;"><span style="font-size:12px\;"><span style="font-family:arial\;">Adjourn</span></span><br />\n<br />\nRecognition of Accredited Chamber Executives<br />\nRecognition of Milestone Service Recipients</span></span></span></span><br />\n&nbsp\;<br />\n<br />\n<br />\n&nbsp\;
LOCATION:
UID:e.1961.128
SEQUENCE:3
DTSTAMP:20260420T064229Z
URL:https://members.ccec.biz/events/details/ccec-2021-agm-128
END:VEVENT

END:VCALENDAR
