BEGIN:VCALENDAR
VERSION:2.0
PRODID:-//ChamberMaster//Event Calendar 2.0//EN
METHOD:PUBLISH
X-PUBLISHED-TTL:P3D
REFRESH-INTERVAL:P3D
CALSCALE:GREGORIAN
BEGIN:VEVENT
DTSTART:20190919T130000Z
DTEND:20190921T160000Z
X-MICROSOFT-CDO-ALLDAYEVENT:FALSE
SUMMARY:CCEC 2019 Annual Conference
DESCRIPTION:Join CCEC at its annual conference\, the one and only time each year that Chamber execs meet to connect with colleagues from across the country and share the latest on Chamber management. This year's event will cover:\n\n	Communicating Chamber value and maximizing member engagement\n	Digital marketing success\n	Recruitment & retention using LinkedIn\n	What's new and what's next in tech for Chambers\n	Media training 101\n\n\nAnd as always\, sharing challenges and best practices and recognizing excellence in Chamber management.   Complete conference brochure here.\n\n\n\nChamber College - if you're new to Chamber management or would like a comprehensive overview of Chamber basics from a top-notch Chamber team\, be sure to register for this full day session on Thursday\, Sept 19th\, 9:00 to 4:00 p.m.\n\n\n\nMedia Training Workshop - Saturday\, Sept 21 10:00 a.m. to noon. Register your volunteer for this special session and prepare your spokespersons for the year ahead\n\n\n\nSaint John Dine-Around - Thursday night - be sure to pick your choice of restaurant or the peer group you'd like to connect with - those working in advocacy or membership OR by community size - small\, mid cities\, large\n\n\n\nDon't forget - CCEC offers a bursary of up to $1000 to attend the conference.  Click here for details and application. And here is the link to the bursary provided by the Canadian Chamber of Commerce in case you wish to apply for both http://chamber.ca/events/2019-agm/AGM_2019_Bursary_ApplicationE.pdf.\n\n\n\nTo register for Canadian Chamber of Commerce AGM which immediately follows CCEC and for accommodations information for both events\, go to http://www.chamber.ca/events/2019-agm/
X-ALT-DESC;FMTTYPE=text/html:Join CCEC at its annual conference\, the one and only time each year that Chamber execs meet to connect with colleagues from across the country and share the latest on Chamber management. This year&#39\;s event will cover:\n<ul>\n	<li>Communicating Chamber value and maximizing member engagement</li>\n	<li>Digital marketing success</li>\n	<li>Recruitment &amp\; retention using LinkedIn</li>\n	<li>What&#39\;s new and what&#39\;s next in tech for Chambers</li>\n	<li>Media training 101</li>\n</ul>\n\n<p>And as always\, sharing challenges and best practices and recognizing excellence in Chamber management.&nbsp\;&nbsp\; Complete conference brochure <a href="https://chambermaster.blob.core.windows.net/userfiles/UserFiles/chambers/1961/File/CCECAnnualMeeting2019marketingbrochurefinal2.pdf">here</a>.</p>\n\n<p><br />\n<strong>Chamber College - </strong>if you&#39\;re new to Chamber management or would like a comprehensive overview of Chamber basics from a top-notch Chamber team\, be sure to register for this full day session on Thursday\, Sept 19th\, 9:00 to 4:00 p.m.</p>\n\n<p><br />\n<strong>Media Training Workshop</strong> - Saturday\, Sept 21 10:00 a.m. to noon. Register your volunteer for this special session and prepare your spokespersons for the year ahead<br />\n<br />\n<strong>Saint John Dine-Around</strong> - Thursday night - be sure to pick your choice of restaurant or the peer group you&#39\;d like to connect with - those working in advocacy or membership OR by community size - small\, mid cities\, large<br />\n<br />\nDon&#39\;t forget - CCEC offers a bursary of up to $1000 to attend the conference.&nbsp\; Click <a href="https://chambermaster.blob.core.windows.net/userfiles/UserFiles/chambers/1961/File/CCECBURSARYAPPLICATIONforCCECConference.docx">here </a>for details and application. And here is the link to the bursary provided by the Canadian Chamber of Commerce in case you wish to apply for both <span style="font-family:times new roman\,serif\;"><span style="font-size:12.0pt\;"><a href="http://chamber.ca/events/2019-agm/AGM_2019_Bursary_ApplicationE.pdf">http://chamber.ca/events/2019-agm/AGM_2019_Bursary_ApplicationE.pdf</a>.</span></span><br />\n<br />\nTo register for <strong>Canadian Chamber of Commerce AGM</strong> which immediately follows CCEC and for accommodations information for both events\, go to http://www.chamber.ca/events/2019-agm/</p>\n
LOCATION:Delta Saint John 39 King St. Saint John NB
UID:e.1961.63
SEQUENCE:3
DTSTAMP:20260421T203504Z
URL:https://members.ccec.biz/events/details/ccec-2019-annual-conference-63
END:VEVENT

END:VCALENDAR
