BEGIN:VCALENDAR
VERSION:2.0
PRODID:-//ChamberMaster//Event Calendar 2.0//EN
METHOD:PUBLISH
X-PUBLISHED-TTL:P3D
REFRESH-INTERVAL:P3D
CALSCALE:GREGORIAN
BEGIN:VEVENT
DTSTART:20201209T190000Z
DTEND:20201209T200000Z
X-MICROSOFT-CDO-ALLDAYEVENT:FALSE
SUMMARY:Calling all Events Staff . . . CCEC Peer Network Event
DESCRIPTION:The CCEC Events Peer Network will be meeting on Wednesday\, December 9 at 2:00 p.m. ET -  an opportunity for all Chamber events staff to gather and exchange information on event experiences and best practices.\n\n\n\n- How's the engagement with your virtual events? What elements are you introducing to keep members engaged?\n\n- Planning for 2021 - is it possible?\n\n- New skill sets for digital events - how are you re-tooling?\n\n\n\nAnd/or anything else you'd like to discuss! Looking for volunteers to kick off the discussion. Please indicate when you register what questions you'd most like to deal with and if you would be willing to share your experiences.
X-ALT-DESC;FMTTYPE=text/html:The CCEC Events Peer Network will be meeting on Wednesday\, December 9 at 2:00 p.m. ET -&nbsp\; an opportunity for all Chamber events staff to gather and exchange information on event experiences and best practices.<br />\n<br />\n- How&#39\;s the engagement with your virtual events? What elements are you introducing to keep members engaged?<br />\n- Planning for 2021 - is it possible?<br />\n- New skill sets for digital events - how are you re-tooling?<br />\n<br />\nAnd/or anything else you&#39\;d like to discuss! Looking for volunteers to kick off the discussion. Please indicate when you register what questions you&#39\;d most like to deal with and if you would be willing to share your experiences.<br />\n<br />\n<br />\n<br />\n&nbsp\;
LOCATION:On-line
UID:e.1961.99
SEQUENCE:3
DTSTAMP:20260420T211625Z
URL:https://members.ccec.biz/events/details/calling-all-events-staff-ccec-peer-network-event-99
END:VEVENT

END:VCALENDAR
