BEGIN:VCALENDAR
VERSION:2.0
PRODID:-//ChamberMaster//Event Calendar 2.0//EN
METHOD:PUBLISH
X-PUBLISHED-TTL:P3D
REFRESH-INTERVAL:P3D
CALSCALE:GREGORIAN
BEGIN:VEVENT
DTSTART:20220216T180000Z
DTEND:20220216T190000Z
X-MICROSOFT-CDO-ALLDAYEVENT:FALSE
SUMMARY:Calling all Chamber Event Professionals . . .
DESCRIPTION:The CCEC Events Peer Network will be meeting on Wednesday\, February 16 at 1:00 p.m. ET -  an opportunity for all Chamber events staff to gather and exchange information on event experiences and best practices.\n\n\n\nIf you haven't attended before\, make it your new year's resolution to join us and meet your peers across the country doing the same job as you. It's a great way to pick up tips\, share successes and challenges.\n\n\n\nHere's what we plan to discuss . . .\n\n	 event calendars (how many events you plan to host\, how many in person\, how many online\, any hybrids ) / what does Q1 look like for chamber event planners\n	any new ideas for events\n	annual sponsorships\n\n\n\nWhen you register\, please indicate any topics you can speak on and other questions you'd like addressed.
X-ALT-DESC;FMTTYPE=text/html:The CCEC Events Peer Network will be meeting on Wednesday\, February 16 at 1:00 p.m. ET -&nbsp\; an opportunity for all Chamber events staff to gather and exchange information on event experiences and best practices.<br />\n<br />\nIf you haven&#39\;t attended before\, make it your new year&#39\;s resolution to join us and meet your peers across the country doing the same job as you. It&#39\;s a great way to pick up tips\, share successes and challenges.<br />\n<br />\nHere&#39\;s what we plan to discuss . . .\n<ul>\n	<li>&nbsp\;event calendars (how many events you plan to host\, how many in person\, how many online\, any hybrids&hellip\;) / what does Q1 look like for chamber event planners</li>\n	<li>any new ideas for events</li>\n	<li>annual sponsorships</li>\n</ul>\n<br />\n<span style="font-family:calibri\,sans-serif\;"><span style="font-size:11.0pt\;">When you register\, please indicate any topics you can speak on and other questions you&#39\;d like addressed.</span></span><br />\n<br />\n<br />\n<br />\n<br />\n&nbsp\;
LOCATION:On-line
UID:e.1961.141
SEQUENCE:3
DTSTAMP:20260420T001713Z
URL:https://members.ccec.biz/events/details/calling-all-chamber-event-professionals-141
END:VEVENT

END:VCALENDAR
