BEGIN:VCALENDAR
VERSION:2.0
PRODID:-//ChamberMaster//Event Calendar 2.0//EN
METHOD:PUBLISH
X-PUBLISHED-TTL:P3D
REFRESH-INTERVAL:P3D
CALSCALE:GREGORIAN
BEGIN:VEVENT
DTSTART:20210714T190000Z
DTEND:20210714T210000Z
X-MICROSOFT-CDO-ALLDAYEVENT:FALSE
SUMMARY:Board Member Training with Bob Harris
DESCRIPTION:CCEC is working with partner organizations to maximize the professional development opportunities available to you. And if you're interested in excellence in Board orientation\, there is a great opportunity for you on July 14th to attend webinar training offered by the Illinois Association of Chamber of Commerce Executives and hear from governance expert Bob Harris. For one fee of $99 US\, you and anyone from your staff AND Board of Directors can attend!\n\n\n\nAGENDA:\n\n	Purpose of Boards - The role of a board\, scrutiny\, expectations and understanding governing documents\n	Duties of Directors - Board's obligations as the governing body of the chamber of commerce. Governance role of the board versus the management role of the executive and staff.\n	Protecting the Organization - Traps and risk management with case studies\, including antitrust\, insurance and audits\n	Strategic Direction - Developing goals and a highly effective strategic plan\n	Resources - New books on leadership and board of directors\;templates and tools for use in your organization\n\n\n\nWHY ATTEND:\n\nThis workshop is ideal for new and veteran board members to better understand:\n\n	Mission and Vision\, Board Structure and Meaningful Engagement\n	Finance and Compliance\n	Recruitment\, Team Building\, Improvement and Evaluation\n\n\n\nWHO SHOULD ATTEND:\n\n\n	Chamber of Commerce CEOs and board members\n	Chamber senior leaders and other staff who understand the existing culture and climate within the chamber.\n\n\n\nThis event is being offered by the Illinois Association of Chamber of Commerce Executives and is being made available to members of CCEC to attend. Check out the CCEC Member Information Centre for resources authored by Bob Harris.
X-ALT-DESC;FMTTYPE=text/html:CCEC is working with partner organizations to maximize the professional development opportunities available to you. And if you&#39\;re interested in <strong>excellence in Board orientation</strong>\, there is a great opportunity for you on July 14th to attend webinar training offered by the <strong>Illinois Association of Chamber of Commerce Executives</strong> and hear from governance expert Bob Harris. For one fee of <strong>$99 US</strong>\, you and anyone from your staff AND Board of Directors can attend!<br />\n<br />\n<strong>AGENDA:</strong>\n<ul>\n	<li><strong>Purpose of Boards</strong> - The role of a board\, scrutiny\, expectations and understanding governing documents</li>\n	<li><strong>Duties of Directors</strong> - Board&#39\;s obligations as the governing body of the chamber of commerce. Governance role of the board versus the management role of the executive and staff.</li>\n	<li><strong>Protecting the Organization</strong> - Traps and risk management with case studies\, including antitrust\, insurance and audits</li>\n	<li><strong>Strategic Direction</strong> - Developing goals and a highly effective strategic plan</li>\n	<li><strong>Resources </strong>- New books on leadership and board of directors\;templates and tools for use in your organization</li>\n</ul>\n<br />\n<strong>WHY ATTEND:</strong><br />\nThis workshop is ideal for new and veteran board members to better understand:\n<ul>\n	<li>Mission and Vision\, Board Structure and Meaningful Engagement</li>\n	<li>Finance and Compliance</li>\n	<li>Recruitment\, Team Building\, Improvement and Evaluation</li>\n</ul>\n<br />\n<strong>WHO SHOULD ATTEND:</strong>\n\n<ul>\n	<li>Chamber of Commerce CEOs and board members</li>\n	<li>Chamber senior leaders and other staff who understand the existing culture and climate within the chamber.</li>\n</ul>\n<br />\nThis event is being offered by the <strong>Illinois Association of Chamber of Commerce Executives</strong> and is being made available to members of CCEC to attend. Check out the CCEC Member Information Centre for resources authored by Bob Harris.
LOCATION:Webinar
UID:e.1961.127
SEQUENCE:3
DTSTAMP:20260420T100550Z
URL:https://members.ccec.biz/events/details/board-member-training-with-bob-harris-127
END:VEVENT

END:VCALENDAR
