BEGIN:VCALENDAR
VERSION:2.0
PRODID:-//ChamberMaster//Event Calendar 2.0//EN
METHOD:PUBLISH
X-PUBLISHED-TTL:P3D
REFRESH-INTERVAL:P3D
CALSCALE:GREGORIAN
BEGIN:VEVENT
DTSTART:20210413T190000Z
DTEND:20210413T200000Z
X-MICROSOFT-CDO-ALLDAYEVENT:FALSE
SUMMARY:BCCE AGM
DESCRIPTION:This event is open to members of BCCE
X-ALT-DESC;FMTTYPE=text/html:This event is open to members of BCCE
LOCATION:Virtual
UID:e.1961.116
SEQUENCE:3
DTSTAMP:20260420T145416Z
URL:https://members.ccec.biz/events/details/bcce-agm-116
END:VEVENT

END:VCALENDAR
