BEGIN:VCALENDAR
VERSION:2.0
PRODID:-//ChamberMaster//Event Calendar 2.0//EN
METHOD:PUBLISH
X-PUBLISHED-TTL:P3D
REFRESH-INTERVAL:P3D
CALSCALE:GREGORIAN
BEGIN:VEVENT
DTSTART:20200424T180000Z
DTEND:20200424T190000Z
X-MICROSOFT-CDO-ALLDAYEVENT:FALSE
SUMMARY:Awards Events - is there a virtual option?
DESCRIPTION:On the CCEC Facebook group\, question was raised whether anyone is considering virtual awards events and a request was made for CCEC to hold a network call to provide an opportunity to discuss. If you're interested in tossing this concept around\, join the call next Friday\, Apr 24.\n\n\n\nWhen you register\, feel free to include in the comments section any specific questions you would like to see discussed during the call and we'll be sure to include them
X-ALT-DESC;FMTTYPE=text/html:On the CCEC Facebook group\, question was raised whether anyone is considering virtual awards events and a request was made for CCEC to hold a network call to provide an opportunity to discuss. If you&#39\;re interested in tossing this concept around\, join the call next Friday\, Apr 24.<br />\n<br />\nWhen you register\, feel free to include in the comments section any specific questions you would like to see discussed during the call and we&#39\;ll be sure to include them
LOCATION:On-line
UID:e.1961.79
SEQUENCE:3
DTSTAMP:20260421T114221Z
URL:https://members.ccec.biz/events/details/awards-events-is-there-a-virtual-option-79
END:VEVENT

END:VCALENDAR
