BEGIN:VCALENDAR
VERSION:2.0
PRODID:-//ChamberMaster//Event Calendar 2.0//EN
METHOD:PUBLISH
X-PUBLISHED-TTL:P3D
REFRESH-INTERVAL:P3D
CALSCALE:GREGORIAN
BEGIN:VEVENT
DTSTART:20220225T180000Z
DTEND:20220225T190000Z
X-MICROSOFT-CDO-ALLDAYEVENT:FALSE
SUMMARY:2022 CCEC Webinar Series
DESCRIPTION:CCEC 2022 webinar series is now open for registration and we've landed on four topics to address the most pressing challenges and opportunities facing chambers.\n\n\n\nHere's the lineup . . . \n\n1. 2026: Is your Chamber Future-ready?  Todd Letts - Friday Feb 25 1:00 ET\n\n\n\nIn this thought-provoking webinar\, Todd will challenge participants to think ahead four years:\n\n\n	What is the new normal for Chambers? What's meant by Chamber 4.0 the new era?\n	What innovations have we adopted during the COVID years?\n	What new innovations in lead acquisition\, dues structure\, event delivery and governance will be commonplace by 2026?\n\n\nTodd will share reflections from his recent work on the World Chamber Federations Chamber Model Innovation Task Force.\n\n\n\n2.  The Future of Events: Reimagine\, Redesign\, and Relaunch - Cathi Hight   Thursday April 21\, 1:00 ET\n\n \n\n  Will our post-pandemic events return to "normal"?\n\n  How can we design events when the future seems uncertain?\n\n   Why was COVID-19 the best thing that happened to us?\n\nIn this session\, you will explore:   Why the pandemic was the tipping point for future events.   Innovative programming strategies to make events the intersections of connectivity.   How to deliver enhanced value to members\, investors\, and sponsors.\n\n3. Mastering the Performance Evaluation Conversation  Jennifer Ireson\, Balanced Perspectives Wednesday\, June 8\, 1:00 ET\n\n \n\nPerformance Evaluations come in with a -60 net promoter score. Negative sixty! With that attitude\, it is not surprising many managers avoid this part of their role. Yet\, effective performance management can positively impact team engagement\, motivation\, and productivity. \n\n \n\nJoin Balanced Perspectives Jennifer Ireson as she discusses how to recreate (or create) a better approach to performance management at your Chamber and make performance evaluation something you will look forward to managing.\n\n\n4. Focus on the Cause\, Not the Club: The Next Investor Model  Cathi Hight  Wednesday\, November 23\, 1:00 ET\n\n\n\n  How can we create a revenue model that is not dependent on membership dues?\n\n  What is the next big idea after the "tiered dues model"?\n\n  Why is being essential more important than being relevant?\n\nIt is time to focus on our missions instead of membership and move from being relevant to a small group of members to becoming essential to our communities.\n\n\n\nIn this session\, you will explore:\n\n  Trends that decrease the growth of membership.\n\n  The disconnect between strategic planning and membership models.\n\n  How to develop an investor model that fosters positive change\, provides money for your mission\, and increases community engagement.\n\n\n\n\n\nBook the entire 4 program series for $155 plus tax - that's a 15% saving over booking the individual events. If you can't attend at the scheduled time\,  a recording of the webinar can be sent to you - almost as good as being there!\n\nClick on Register Now to reserve your spot in all four webinars with one easy registration and save!
X-ALT-DESC;FMTTYPE=text/html:<p><span style="font-family:arial\;">CCEC 2022 webinar series is now open for registration and we&#39\;ve landed on four topics to address the most pressing challenges and opportunities facing chambers.<br />\n<br />\nHere&#39\;s the lineup . . .&nbsp\;</span></p>\n\n<p><span style="font-family:arial\;">1.<span style="color:#A52A2A\;"> </span><strong><span style="font-size:14px\;"><span style="color:#B22222\;">2026: Is your Chamber Future-ready?</span>&nbsp\;</span> </strong>Todd Letts - Friday Feb 25 1:00 ET<br />\n<br />\nIn this thought-provoking webinar\, Todd will challenge participants to think ahead four years:</span></p>\n\n<ul>\n	<li style="margin-left:0cm\;"><span style="font-family:arial\;">What is the new normal for Chambers? What&rsquo\;s meant by Chamber 4.0 the new era?</span></li>\n	<li style="margin-left:0cm\;"><span style="font-family:arial\;">What innovations have we adopted during the COVID years?</span></li>\n	<li style="margin-left:0cm\;"><span style="font-family:arial\;">What new innovations in lead acquisition\, dues structure\, event delivery and governance will be commonplace by 2026?</span></li>\n</ul>\n\n<p><span style="font-family:arial\;">Todd will share reflections from his recent work on the World Chamber Federations Chamber Model Innovation Task Force.<br />\n<br />\n2.&nbsp\; <strong><span style="color:#B22222\;"><span style="font-size:14px\;">The Future of Events: Reimagine\, Redesign\, and Relaunch</span></span> - </strong>Cathi Hight&nbsp\;&nbsp\; Thursday April 21\, 1:00 ET<br />\n<strong><span style="color:black\;">&nbsp\;</span></strong><br />\n<span style="color:black\;">&bull\; Will our post-pandemic events return to &ldquo\;normal&rdquo\;?<br />\n&bull\; How can we design events when the future seems uncertain?</span><br />\n<span style="color:black\;">&nbsp\;&bull\; Why was COVID-19 the best thing that happened to us?<br />\nIn this session\, you will explore: &bull\; Why the pandemic was the tipping point for future events. &bull\; Innovative programming strategies to make events the intersections of connectivity. &bull\; How to deliver enhanced value to members\, investors\, and sponsors.</span></span></p>\n\n<div style="margin-top:0in\;margin-right:0in\;margin-bottom:0in\;margin-bottom:.0001pt\;"><span style="font-family:arial\;">3.<span style="color:#B22222\;"><span style="font-size:14px\;"> </span></span><strong><span style="color:#B22222\;"><span style="font-size:14px\;">Mastering the Performance Evaluation Conversation&nbsp\;</span></span><span style="color:#201F1E\;"> </span></strong><span style="color:#201F1E\;">Jennifer Ireson\, Balanced Perspectives </span>Wednesday\, June 8\, 1:00 ET<br />\n&nbsp\;<br />\n<span style="color:#201F1E\;">Performance Evaluations come in with a -60 net promoter score. Negative sixty! With that attitude\, it is not surprising many managers avoid this part of their role. </span><span style="color:#494949\;">Yet\, effective performance management can positively impact team engagement\, motivation\, and productivity. </span><br />\n&nbsp\;<br />\n<span style="color:#494949\;">Join Balanced Perspectives Jennifer Ireson as she discusses how to recreate (or create) a better approach to performance management at your Chamber and </span><span style="color:#201F1E\;">make performance evaluation something you will look forward to managing.</span></span></div>\n<br />\n<span style="font-family:arial\;">4.<span style="color:#B22222\;"><span style="font-size:14px\;"> </span></span><strong><span style="color:#B22222\;"><span style="font-size:14px\;">Focus on the Cause\, Not the Club: The Next Investor Model</span></span><span style="color:black\;">&nbsp\; </span></strong><span style="color:black\;">Cathi Hight&nbsp\; </span>Wednesday\, November 23\, 1:00 ET<br />\n<br />\n<span style="color:black\;">&bull\; How can we create a revenue model that is not dependent on membership dues?<br />\n&bull\; What is the next big idea after the &ldquo\;tiered dues model&rdquo\;?<br />\n&bull\; Why is being essential more important than being relevant?<br />\nIt is time to focus on our missions instead of membership and move from being relevant to a small group of members to becoming essential to our communities.<br />\n<br />\nIn this session\, you will explore:<br />\n&bull\; Trends that decrease the growth of membership.<br />\n&bull\; The disconnect between strategic planning and membership models.<br />\n&bull\; How to develop an investor model that fosters positive change\, provides money for your mission\, and increases community engagement.</span><br />\n<br />\n<br />\nBook the entire 4 program series for $155 plus tax - that&#39\;s a 15% saving over booking the individual events. If you can&#39\;t attend at the scheduled time\,&nbsp\; a recording of the webinar can be&nbsp\;sent to you - almost as good as&nbsp\;being there!</span>\n\n<p><span style="font-family:arial\;">Click on Register Now to reserve your spot in all four webinars with one easy registration and save!</span></p>\n
LOCATION:Connection information will be sent to you to access the webinar a few days before each event.
UID:e.1961.152
SEQUENCE:3
DTSTAMP:20260419T230323Z
URL:https://members.ccec.biz/events/details/2022-ccec-webinar-series-152
END:VEVENT

END:VCALENDAR
