BEGIN:VCALENDAR
VERSION:2.0
PRODID:-//ChamberMaster//Event Calendar 2.0//EN
METHOD:PUBLISH
X-PUBLISHED-TTL:P3D
REFRESH-INTERVAL:P3D
CALSCALE:GREGORIAN
BEGIN:VEVENT
DTSTART:20210430T133000Z
DTEND:20210430T173000Z
X-MICROSOFT-CDO-ALLDAYEVENT:FALSE
SUMMARY:2021 CEO: Creating Every Opportunity Virtual Conference
DESCRIPTION:YOU'RE INVITED! \n\nAS A VIRTUAL EVENT CHAMBER EXECUTIVES OF ONTARIO WOULD LIKE YOU AND YOUR STAFF TO JOIN US!\nAs we embark on a new era of business and leadership\, join the Chamber Executives of Ontario (CEO)\, for two thought-provoking half-day sessions on facing and conquering the unique barriers and pressures of these turbulent times.\n\nOn Friday\, April 30th\, gather insights from business strategy expert\, David Kincaid\, author of 'The Brand-Driven CEO: Embedding Brand into Business Strategy'\, and learn how senior leaders can leverage their brand to align and guide the behaviours\, decisions and operations of their entire organization to maximize opportunity and lead change. Learn practical assessments and game plans for senior executives and managers across all functional areas.\n\nLater that morning\, engage with Chamber colleagues to collaborate on how the pandemic has amplified the need to work and lead together for optimal outcomes. Discuss initiatives that have resonated across Chambers and how to continue this momentum and leverage it to drive economic recovery moving forward.\n\nOn Friday\, May 14th\, hear from Mike Power\, Publisher\, Brunswick News and learn about the trends in\n\nmedia and where we are heading as information becomes instant and abundant. Then\, join the Chamber Channel Panel for a robust discussion on social media and learn from our industry experts on how to harness the power and avoid the pitfalls of social media. The Small Social Company will also discuss the option to outsource the social media function. \n\nPANELISTS:\n\n\n	Tiffany Arcari\, Greater Peterborough Chamber of Commerce\n	Kristin Curry\, Oakville Chamber of Commerce\n	Lesley Lavender\, Prince Edward County Chamber of Commerce\n	Keitha Robson\, Timmins Chamber of Commerce\n	The Small Social Company\, Mississauga Board of Trade\n\nLater that morning\, dive into the role of strategic communications with Corinne Radake\, Burlington Chamber of Commerce and learn how it supports your overall business plan\, strengthens your brand reputation\, and how to ensure it is embedded across your organization.\n\n\n\nDownload the Agenda\n\nPricing starts at just $50+hst per Member\n\nNon Members are welcome to join us starting at $100 +hst\n\n\n\nhttp://www.chamberexecutives.on.ca/events/details/ceo-creating-every-opportunity-virtual-conference-19REGISTER TODAY!
X-ALT-DESC;FMTTYPE=text/html:<div style="text-align:center"><a href="http://www.chamberexecutives.on.ca/events/details/ceo-creating-every-opportunity-virtual-conference-19" target="_blank"><span style="color:#0000FF"><span style="font-size:18px"><strong>YOU&#39\;RE INVITED!&nbsp\;<br />\nAS A VIRTUAL EVENT CHAMBER EXECUTIVES OF ONTARIO WOULD LIKE YOU AND YOUR STAFF TO JOIN US!</strong></span></span></a></div>\nAs we embark on a new era of business and leadership\, join the Chamber Executives of&nbsp\;Ontario (CEO)\, for two thought-provoking half-day sessions on facing and conquering the&nbsp\;unique barriers and pressures of these turbulent times.<br />\nOn&nbsp\;<strong>Friday\,</strong>&nbsp\;<strong>April 30th</strong>\, gather insights from business strategy expert\,&nbsp\;<span style="font-size:16px">David Kincaid</span>\, author of&nbsp\;<em><span style="font-size:16px">&#39\;The&nbsp\;Brand-Driven CEO: Embedding Brand into Business Strategy</span>&#39\;</em>\, and learn how senior leaders&nbsp\;can leverage their brand to align and guide the behaviours\, decisions and operations of their&nbsp\;entire organization to maximize opportunity and lead change. Learn practical assessments&nbsp\;and game plans for senior executives and managers across all functional areas.<br />\nLater that morning\, engage with Chamber colleagues to collaborate on how the pandemic&nbsp\;has amplified the need to work and lead together for optimal outcomes. Discuss initiatives&nbsp\;that have resonated across Chambers and how to continue this momentum and leverage it&nbsp\;to drive economic recovery moving forward.<br />\nOn&nbsp\;<strong>Friday\, May 14th</strong>\, hear from&nbsp\;<span style="font-size:16px">Mike Power</span>\, Publisher\, Brunswick News and learn about the trends in<br />\nmedia and where we are heading as information becomes instant and abundant. Then\, join&nbsp\;the Chamber Channel Panel for a robust discussion on social media and learn from our&nbsp\;industry experts on how to harness the power and avoid the pitfalls of social media. The&nbsp\;Small Social Company will also discuss the option to outsource the social media function.&nbsp\;<br />\n<strong>PANELISTS:</strong>\n\n<ul>\n	<li><strong>Tiffany&nbsp\;Arcari</strong>\,&nbsp\;<a href="https://www.peterboroughchamber.ca/" target="_blank">Greater Peterborough Chamber of Commerce</a></li>\n	<li><strong>Kristin Curry</strong>\,&nbsp\;<a href="https://oakvillechamber.com/" target="_blank">Oakville Chamber of Commerce</a></li>\n	<li><strong>Lesley Lavender</strong>\,&nbsp\;<a href="https://www.pecchamber.com/" target="_blank">Prince Edward County Chamber of Commerce</a></li>\n	<li><strong>Keitha Robson</strong>\,&nbsp\;<a href="https://www.timminschamber.on.ca/" target="_blank">Timmins Chamber of Commerce</a></li>\n	<li><a href="http://www.thesmallsocial.com/" target="_blank"><strong>The Small Social Company</strong></a>\,&nbsp\;<a href="https://www.mbot.com/" target="_blank">Mississauga Board of Trade</a></li>\n</ul>\nLater that morning\, dive into the role of strategic communications with Corinne Radake\,<a href="https://burlingtonchamber.com/" target="_blank">&nbsp\;Burlington Chamber of Commerce</a>&nbsp\;and learn how it supports your&nbsp\;overall business plan\, strengthens your brand reputation\, and how to ensure it is embedded&nbsp\;across your organization.<br />\n<br />\n<span style="font-size:20px"><a href="https://chambermaster.blob.core.windows.net/userfiles/UserFiles/chambers/2001/File/000_2021_AGM/2021ConferenceFlyer.pdf">Download the Agenda</a></span><br />\nPricing starts at just $50+hst per Member<br />\nNon Members are welcome to join us starting at $100 +hst<br />\n<br />\n<a href="http://www.chamberexecutives.on.ca/events/details/ceo-creating-every-opportunity-virtual-conference-19">http://www.chamberexecutives.on.ca/events/details/ceo-creating-every-opportunity-virtual-conference-19</a>REGISTER TODAY!
LOCATION:Virtual Event
UID:e.1961.118
SEQUENCE:3
DTSTAMP:20260420T145715Z
URL:https://members.ccec.biz/events/details/2021-ceo-creating-every-opportunity-virtual-conference-118
END:VEVENT

END:VCALENDAR
