BEGIN:VCALENDAR
VERSION:2.0
PRODID:-//ChamberMaster//Event Calendar 2.0//EN
METHOD:PUBLISH
X-PUBLISHED-TTL:P3D
REFRESH-INTERVAL:P3D
CALSCALE:GREGORIAN
BEGIN:VEVENT
DTSTART;VALUE=DATE:20210201
DTEND;VALUE=DATE:20210224
TRANSP:TRANSPARENT
X-MICROSOFT-CDO-ALLDAYEVENT:TRUE
SUMMARY:2021 CCEC Webinar Series
DESCRIPTION:CCEC 2021 webinar series is now open for registration and we've landed on four topics to address the most pressing challenges and opportunities facing chambers.\n\n\n\nHere's the lineup . . . \n\n1. Wednesday\, February 24\, 1:00 ET:  Exceptional Times\, Exceptional Action - Shari Pash\, Strategic Solutions for Growth\n\nResolve\, Resilience\, Return\, Rethink\, and Reform - how will each of these impact your Chamber in 2021.  Together we will discuss how to create exceptional action for your next normal in Chamber operation\, membership\, non-dues revenue\, and let?s not forget your own self-care.\n\n\n\n2.Thursday April 1\, 1:00 ET: Strategic Planning - Your Road Map to Success - John Ferris\, CEO InVision Edge\n\n Are there times when you feel like your wheels are spinning? Is there plenty of action but you're not getting anywhere? Are your teams not focused on the most important things to drive impact? You have a plan\, but is it being executed? Strategic planning does not need to be a long\, drawn-out process. In this webinar\, we will show you five steps to clarify your strategy and get you on the path to execution and success. \n\n \n\n3. Tuesday\, May 4\, 2021\, 1:00 ET:  The Future of Events - Melissa Cole\, Say Something Communications\nIn follow up to the October 2020 CCEC Report on Virtual Events\, this webinar will address the evolution of chamber events since 2020 and address the transition from virtual to hybrid to in-person and what you need to know when it comes to member engagement\, financial considerations and risk management.\n\n\n\n4. Wednesday\, November 24\, 12:00 ET:  How To Launch A Successful Advocacy Campaign With Limited Resources - Deneen Everett\, Yellowknife Chamber of Commerce\n\nA practical\, step-by-step process you can follow to develop and implement successful advocacy campaigns in your community.  Targeted to chambers with limited policy / advocacy experience or anyone looking for a refresher\, participants will leave the presentation with templates\, policy examples and defined processes that will allow them to begin policy development immediately.  \n\n\n\nBook the entire 4 program series for $155 plus tax - that's a 15% saving over booking the individual events. If you can't attend at the scheduled time\,  a recording of the webinar can be sent to you - almost as good as being there!\n\nClick on Register Now to reserve your spot in all four webinars with one easy registration and save!
X-ALT-DESC;FMTTYPE=text/html:<p><span style="font-size:12px\;">CCEC 2021 webinar series is now open for registration and we&#39\;ve landed on four topics to address the most pressing challenges and opportunities facing chambers.<br />\n<br />\nHere&#39\;s the lineup . . .&nbsp\;</span></p>\n\n<p><span style="font-size:12px\;">1. Wednesday\, February 24\, 1:00 ET:&nbsp\; <strong>Exceptional Times\, Exceptional Action </strong>- Shari Pash\, Strategic Solutions for Growth<br />\nResolve\, Resilience\, Return\, Rethink\, and Reform - how will each of these impact your Chamber in 2021.&nbsp\; Together we will discuss how to create exceptional action for your next normal in Chamber operation\, membership\, non-dues revenue\, and let?s not forget your own self-care.<br />\n<br />\n2.Thursday April 1\, 1:00 ET: <strong>Strategic&nbsp\;Planning - Your&nbsp\;Road Map to Success - John Ferris</strong>\, CEO InVision Edge<br />\n&nbsp\;Are there times when you feel like your wheels are spinning? Is there plenty of action but you&#39\;re not getting anywhere? Are your teams not focused on the most important things to drive impact? You have a plan\, but is it being executed? Strategic planning does not need to be a long\, drawn-out process. In this webinar\, we will show you five steps to clarify your strategy and get you on the path to execution and success.&nbsp\;</span><br />\n&nbsp\;</p>\n\n<div style="margin-top:0in\;margin-right:0in\;margin-bottom:0in\;margin-bottom:.0001pt\;"><span style="font-size:12px\;">3. Tuesday\, May 4\, 2021\, 1:00 ET:&nbsp\; <strong>The Future of Events</strong> - Melissa Cole\, Say Something Communications</span></div>\n<span style="font-size:12px\;">In follow up to the October 2020 CCEC Report on Virtual Events\, this webinar will address the evolution of chamber events since 2020 and address the transition from virtual to hybrid to in-person and what you need to know when it comes to member engagement\, financial considerations and risk management.<br />\n<br />\n4. Wednesda<span style="font-family:tahoma\;">y\, November 24\, 12:00 ET:&nbsp\; <span style="font-family:arial\;"><strong>How To Launch A Successful Advocacy Campaign With Limited Resources</strong> - Deneen Everett\, Yellowknife Chamber of Commerce<br />\nA practical\, step-by-step process you can follow to develop and implement successful advocacy campaigns in your community.&nbsp\; Targeted to chambers with limited policy / advocacy experience or anyone looking for a refresher\, participants will leave the presentation with templates\, policy examples and defined processes that will allow them to begin policy development immediately.&nbsp\; </span></span><br />\n<br />\nBook the entire 4 program series for $155 plus tax - that&#39\;s a 15% saving over booking the individual events. If you can&#39\;t attend at the scheduled time\,&nbsp\; a recording of the webinar can be&nbsp\;sent to you - almost as good as&nbsp\;being there!</span>\n\n<p><span style="font-size:12px\;">Click on Register Now to reserve your spot in all four webinars with one easy registration and save!</span></p>\n
LOCATION:Connection information will be sent to you to access the webinar a few days before each event.
UID:e.1961.106
SEQUENCE:3
DTSTAMP:20260420T193819Z
URL:https://members.ccec.biz/events/details/2021-ccec-webinar-series-106
END:VEVENT

END:VCALENDAR
