BEGIN:VCALENDAR
VERSION:2.0
PRODID:-//ChamberMaster//Event Calendar 2.0//EN
METHOD:PUBLISH
X-PUBLISHED-TTL:P3D
REFRESH-INTERVAL:P3D
CALSCALE:GREGORIAN
BEGIN:VEVENT
DTSTART:20200106T180000Z
DTEND:20200227T190000Z
X-MICROSOFT-CDO-ALLDAYEVENT:FALSE
SUMMARY:2020 CCEC Webinar Series
DESCRIPTION:CCEC 2020 webinar series is now open for registration. Webinars offer an effective and convenient approach to professional development for your Chamber. Some Chambers tune into webinars in their Board room and include a number of staff with short debrief following the session - why not give that a try this year!\n\n\n\nBook the entire 6 program series for $199 plus tax - that's a 25% saving over booking the individual events. If you can't attend at the scheduled time\, in most cases a recording of the webinar can be sent to you - almost as good as being there (some say even better as you can start and stop the recording to fit your schedule).\n\n\n\nHere's the lineup . . . \n\n1. Wednesday\, January 22:  Policy 101 - Sandra Dueck\, Greater Peterborough Chamber of Commerce\n\nThis webinar will detail how to get started\, understanding the process\, using the network\, and other hacks to help you up your policy game with ease.\n\n\n\n 2. Friday\, February 28:  Communicating Chamber Value to Maximize Member Engagement - Shari Pash \n\nStrategies and tips to help prospects\, members\, and your business community understand the value that their membership investment brings to your overall mission and what engagement can mean to their company or business.\n\n \n\n3. Wednesday\, March 25:  How To Turn Your Website Into A Sales Machine - Frank Kenny\nMost chamber websites fail to convert visitors into members or customers. Discover quick and easy ways to turn your website into a greater source of revenue for your chamber.\n\n\n\n4. Wednesday\, April 29:  Media Training - Dan Rogers\, Kelowna Chamber of Commerce\n\n\n\n5. Thursday\, May 28:  Cha-Ching! - Revenue Development - Todd Letts\, Brampton Chamber of Commerce \n\nThis interactive session will review pragmatic ways to bring more non-dues revenue to chambers of commerce\; boost sponsorships and fun ways to recruit and retain members\n\n\n\n6. Friday\, November 27 - TBD \n\n\n\nClick on Register Now to reserve your spot in all six webinars with one easy registration and save!
X-ALT-DESC;FMTTYPE=text/html:<p><span style="font-size:12px\;"><span style="font-family:arial\;">CCEC 2020 webinar series is now open for registration. Webinars offer an effective and convenient approach to professional development for your Chamber. Some Chambers tune into webinars in their Board room and include a number of staff with short debrief following the session - why not give that a try this year!<br />\n<br />\nBook the entire 6 program series for $199 plus tax - that&#39\;s a 25% saving over booking the individual events. If you can&#39\;t attend at the scheduled time\, in most cases a recording of the webinar can be&nbsp\;sent to you - almost as good as&nbsp\;being there (some say even better as you can start and stop the recording to fit your schedule).<br />\n<br />\nHere&#39\;s the lineup . . .&nbsp\;</span></span></p>\n\n<p><span style="font-size:12px\;">1. Wednesday\, January 22:&nbsp\; <strong>Policy 101 </strong>- Sandra Dueck\, Greater Peterborough Chamber of Commerce<br />\nThis webinar will detail how to get started\, understanding the process\, using the network\, and other hacks to help you up your policy game with ease.<br />\n<br />\n&nbsp\;2. Friday\, February 28:&nbsp\; <strong>Communicating Chamber Value to Maximize Member Engagement</strong> <strong>- </strong>Shari Pash<span style="text-transform:uppercase\;"><span style="color:#A73B3E\;"> </span></span><br />\n<span style="color:#000000\;">Strategies and tips to help prospects\, members\, and your business community understand the value that their membership investment brings to your overall mission and what engagement can mean to their company or business.</span><br />\n&nbsp\;</span></p>\n\n<div style="margin-top:0in\;margin-right:0in\;margin-bottom:0in\;margin-bottom:.0001pt\;"><span style="font-size:12px\;">3. Wednesday\, March 25:&nbsp\; <strong><span style="font-family:calibri\,sans-serif\;">How To Turn Your Website Into A Sales Machine - </span></strong><span style="font-family:calibri\,sans-serif\;">Frank Kenny</span></span></div>\n<span style="font-size:12px\;">Most chamber websites fail to convert visitors into members or customers. Discover quick and easy ways to turn your website into a greater source of revenue for your chamber.<br />\n<br />\n4. Wednesday\, April 29:&nbsp\; <strong>Media Training</strong> - Dan Rogers\, Kelowna Chamber of Commerce<br />\n<br />\n5. Thursday\, May 28:&nbsp\; <span style="color:#333E48\;"><span style="font-family:helvetica\,sans-serif\;"><strong>Cha-Ching! - Revenue Development</strong> - Todd Letts\, Brampton Chamber of Commerce </span></span></span>\n\n<p><span style="font-size:12px\;"><span style="color:#333E48\;"><span style="font-family:helvetica\,sans-serif\;">This interactive session will review pragmatic ways to bring more non-dues revenue to chambers of commerce\; boost sponsorships and fun ways to recruit and retain members</span></span><br />\n<br />\n<span style="font-family:calibri\,sans-serif\;">6. Friday\, November 27 - TBD </span><br />\n<br />\n<span style="font-family:arial\;">Click on Register Now to reserve your spot in all six webinars with one easy registration and save!</span></span></p>\n
LOCATION:Connection information will be sent to you to access the webinar a few days before each event.
UID:e.1961.69
SEQUENCE:3
DTSTAMP:20260421T131728Z
URL:https://members.ccec.biz/events/details/2020-ccec-webinar-series-69
END:VEVENT

END:VCALENDAR
